BEGIN:VCALENDAR
VERSION:2.0
PRODID:SchoolNow
CALSCALE:GREGORIAN
BEGIN:VEVENT
UID:5d0532fa-7482-11f0-acc9-0a58a9feac02
DTSTAMP:20251216T154517Z
SUMMARY:District 58 Science Fair
LOCATION:O'Neill Middle School\, 635 59th St\, Downers Grove\, IL 60516\, U
 SA
URL;VALUE=URI:https://www.dg58.org/on/calendar/8483424/district-58-science-
 fair
DTSTART:20260124T133000Z
DTEND:20260124T200000Z
END:VEVENT
END:VCALENDAR
