BEGIN:VCALENDAR
VERSION:2.0
PRODID:SchoolNow
CALSCALE:GREGORIAN
BEGIN:VEVENT
UID:67cd25fc-73b6-11f0-b034-0a58a9feac02
DTSTAMP:20251216T154518Z
SUMMARY:Jazz Band Rehearsal
LOCATION:Band Room
URL;VALUE=URI:https://www.dg58.org/on/calendar/8479624/jazz-band-rehearsal
DTSTART:20270323T120000Z
DTEND:20270323T124500Z
END:VEVENT
END:VCALENDAR
