BEGIN:VCALENDAR
VERSION:2.0
PRODID:SchoolNow
CALSCALE:GREGORIAN
BEGIN:VEVENT
UID:67cd23f4-73b6-11f0-91a2-0a58a9feac02
DTSTAMP:20251216T154518Z
SUMMARY:Jazz Band Rehearsal
LOCATION:Band Room
URL;VALUE=URI:https://www.dg58.org/on/calendar/8479622/jazz-band-rehearsal
DTSTART:20270309T130000Z
DTEND:20270309T134500Z
END:VEVENT
END:VCALENDAR
