BEGIN:VCALENDAR
VERSION:2.0
PRODID:SchoolNow
CALSCALE:GREGORIAN
BEGIN:VEVENT
UID:67cd22be-73b6-11f0-b54c-0a58a9feac02
DTSTAMP:20251216T154518Z
SUMMARY:Jazz Band Rehearsal
LOCATION:Band Room
URL;VALUE=URI:https://www.dg58.org/on/calendar/8479621/jazz-band-rehearsal
DTSTART:20270302T130000Z
DTEND:20270302T134500Z
END:VEVENT
END:VCALENDAR
