BEGIN:VCALENDAR
VERSION:2.0
PRODID:SchoolNow
CALSCALE:GREGORIAN
BEGIN:VEVENT
UID:67c3a266-73b6-11f0-af3e-0a58a9feac02
DTSTAMP:20251216T154518Z
SUMMARY:Jazz Band Rehearsal
LOCATION:Band Room
URL;VALUE=URI:https://www.dg58.org/on/calendar/8479617/jazz-band-rehearsal
DTSTART:20270318T120000Z
DTEND:20270318T124500Z
END:VEVENT
END:VCALENDAR
