BEGIN:VCALENDAR
VERSION:2.0
PRODID:SchoolNow
CALSCALE:GREGORIAN
BEGIN:VEVENT
UID:67c3a158-73b6-11f0-b5b1-0a58a9feac02
DTSTAMP:20251216T154518Z
SUMMARY:Jazz Band Rehearsal
LOCATION:Band Room
URL;VALUE=URI:https://www.dg58.org/on/calendar/8479616/jazz-band-rehearsal
DTSTART:20270311T130000Z
DTEND:20270311T134500Z
END:VEVENT
END:VCALENDAR
