BEGIN:VCALENDAR
VERSION:2.0
PRODID:SchoolNow
CALSCALE:GREGORIAN
BEGIN:VEVENT
UID:5672a074-4dab-11f0-a6d3-0e89534dbe27
DTSTAMP:20251216T154518Z
SUMMARY:Jazz Band Rehearsal
LOCATION:Band Room
URL;VALUE=URI:https://www.dg58.org/on/calendar/8331699/jazz-band-rehearsal
DTSTART:20270216T130000Z
DTEND:20270216T134500Z
END:VEVENT
END:VCALENDAR
