BEGIN:VCALENDAR
VERSION:2.0
PRODID:SchoolNow
CALSCALE:GREGORIAN
BEGIN:VEVENT
UID:567297fa-4dab-11f0-9f92-0e89534dbe27
DTSTAMP:20251216T154518Z
SUMMARY:Jazz Band Rehearsal
LOCATION:Band Room
URL;VALUE=URI:https://www.dg58.org/on/calendar/8331698/jazz-band-rehearsal
DTSTART:20270209T130000Z
DTEND:20270209T134500Z
END:VEVENT
END:VCALENDAR
