BEGIN:VCALENDAR
VERSION:2.0
PRODID:SchoolNow
CALSCALE:GREGORIAN
BEGIN:VEVENT
UID:566103c8-4dab-11f0-befd-0e89534dbe27
DTSTAMP:20251216T154518Z
SUMMARY:Jazz Band Rehearsal
LOCATION:Band Room
URL;VALUE=URI:https://www.dg58.org/on/calendar/8331696/jazz-band-rehearsal
DTSTART:20270211T130000Z
DTEND:20270211T134500Z
END:VEVENT
END:VCALENDAR
