BEGIN:VCALENDAR
VERSION:2.0
PRODID:SchoolNow
CALSCALE:GREGORIAN
BEGIN:VEVENT
UID:fc67f3ca-3fec-11f0-8d25-0affde49cab3
DTSTAMP:20251216T154518Z
SUMMARY:Jazz Band Rehearsal
LOCATION:Band Room
URL;VALUE=URI:https://www.dg58.org/on/calendar/8241729/jazz-band-rehearsal
DTSTART:20270202T130000Z
DTEND:20270202T134500Z
END:VEVENT
END:VCALENDAR
