BEGIN:VCALENDAR
VERSION:2.0
PRODID:SchoolNow
CALSCALE:GREGORIAN
BEGIN:VEVENT
UID:fc4d1442-3fec-11f0-bd19-0affde49cab3
DTSTAMP:20251216T154517Z
SUMMARY:Spring Music Concert
URL;VALUE=URI:https://www.dg58.org/on/calendar/8241728/spring-music-concert
DTSTART:20260529T000000Z
DTEND:20260529T020000Z
END:VEVENT
END:VCALENDAR
