BEGIN:VCALENDAR
VERSION:2.0
PRODID:SchoolNow
CALSCALE:GREGORIAN
BEGIN:VEVENT
UID:fc4d12da-3fec-11f0-9e53-0affde49cab3
DTSTAMP:20251216T154517Z
SUMMARY:DGCC Concert
URL;VALUE=URI:https://www.dg58.org/on/calendar/8241727/dgcc-concert
DTSTART:20260514T220000Z
DTEND:20260515T013000Z
END:VEVENT
END:VCALENDAR
