BEGIN:VCALENDAR
VERSION:2.0
PRODID:SchoolNow
CALSCALE:GREGORIAN
BEGIN:VEVENT
UID:fc4d0ec0-3fec-11f0-89b2-0affde49cab3
DTSTAMP:20251216T154517Z
SUMMARY:Winter Music Concert
URL;VALUE=URI:https://www.dg58.org/on/calendar/8241726/winter-music-concert
DTSTART:20251217T010000Z
DTEND:20251217T021500Z
END:VEVENT
END:VCALENDAR
