BEGIN:VCALENDAR
VERSION:2.0
PRODID:SchoolNow
CALSCALE:GREGORIAN
BEGIN:VEVENT
UID:fc3d4b70-3fec-11f0-b318-0affde49cab3
DTSTAMP:20251216T154517Z
SUMMARY:Curriculum Night - HE 8th Grade and ON
URL;VALUE=URI:https://www.dg58.org/on/calendar/8241725/curriculum-night-he-
 8th-grade-and-on
DTSTART:20250918T230000Z
DTEND:20250919T003000Z
END:VEVENT
END:VCALENDAR
