BEGIN:VCALENDAR
VERSION:2.0
PRODID:SchoolNow
CALSCALE:GREGORIAN
BEGIN:VEVENT
UID:fc3d4a44-3fec-11f0-bc15-0affde49cab3
DTSTAMP:20251216T154517Z
SUMMARY:Locker Set-Up Day
URL;VALUE=URI:https://www.dg58.org/on/calendar/8241724/locker-set-up-day
DTSTART:20250828T220000Z
DTEND:20250829T000000Z
END:VEVENT
END:VCALENDAR
