BEGIN:VCALENDAR
VERSION:2.0
PRODID:SchoolNow
CALSCALE:GREGORIAN
BEGIN:VEVENT
UID:344ec19c-3bf1-11f0-b4e2-02166bab2149
DTSTAMP:20251216T154518Z
SUMMARY:Jazz Band Rehearsal
LOCATION:Band Room
URL;VALUE=URI:https://www.dg58.org/on/calendar/8215886/jazz-band-rehearsal
DTSTART:20270126T130000Z
DTEND:20270126T134500Z
END:VEVENT
END:VCALENDAR
