BEGIN:VCALENDAR
VERSION:2.0
PRODID:SchoolNow
CALSCALE:GREGORIAN
BEGIN:VEVENT
UID:3445e96e-3bf1-11f0-b75b-02166bab2149
DTSTAMP:20251216T154518Z
SUMMARY:Jazz Band Rehearsal
LOCATION:Band Room
URL;VALUE=URI:https://www.dg58.org/on/calendar/8215885/jazz-band-rehearsal
DTSTART:20270128T130000Z
DTEND:20270128T134500Z
END:VEVENT
END:VCALENDAR
