BEGIN:VCALENDAR
VERSION:2.0
PRODID:SchoolNow
CALSCALE:GREGORIAN
BEGIN:VEVENT
UID:3445e4fa-3bf1-11f0-ba51-02166bab2149
DTSTAMP:20251216T154518Z
SUMMARY:Jazz Band Rehearsal
LOCATION:Band Room
URL;VALUE=URI:https://www.dg58.org/on/calendar/8215884/jazz-band-rehearsal
DTSTART:20270121T130000Z
DTEND:20270121T134500Z
END:VEVENT
END:VCALENDAR
