BEGIN:VCALENDAR
VERSION:2.0
PRODID:SchoolNow
CALSCALE:GREGORIAN
BEGIN:VEVENT
UID:34350be4-3bf1-11f0-82a6-02166bab2149
DTSTAMP:20251216T154517Z
SUMMARY:Chess Match
LOCATION:Westview Hills
URL;VALUE=URI:https://www.dg58.org/on/calendar/8215882/chess-match
DTSTART:20260115T221500Z
DTEND:20260116T001500Z
END:VEVENT
END:VCALENDAR
