BEGIN:VCALENDAR
VERSION:2.0
PRODID:SchoolNow
CALSCALE:GREGORIAN
BEGIN:VEVENT
UID:34350752-3bf1-11f0-a022-02166bab2149
DTSTAMP:20251216T154517Z
SUMMARY:Wrestling Meet
LOCATION:TBD
URL;VALUE=URI:https://www.dg58.org/on/calendar/8215877/wrestling-meet
DTSTART;VALUE=DATE:20260228
DTEND;VALUE=DATE:20260301
END:VEVENT
END:VCALENDAR
