BEGIN:VCALENDAR
VERSION:2.0
PRODID:SchoolNow
CALSCALE:GREGORIAN
BEGIN:VEVENT
UID:34350220-3bf1-11f0-b17a-02166bab2149
DTSTAMP:20251216T154517Z
SUMMARY:Cross Country Meet
LOCATION:TBD
URL;VALUE=URI:https://www.dg58.org/on/calendar/8215872/cross-country-meet
DTSTART;VALUE=DATE:20251010
DTEND;VALUE=DATE:20251011
END:VEVENT
END:VCALENDAR
