BEGIN:VCALENDAR
VERSION:2.0
PRODID:SchoolNow
CALSCALE:GREGORIAN
BEGIN:VEVENT
UID:343500cc-3bf1-11f0-8e3d-02166bab2149
DTSTAMP:20251216T154517Z
SUMMARY:Boys Volleyball Game
LOCATION:TBD
URL;VALUE=URI:https://www.dg58.org/on/calendar/8215871/boys-volleyball-game
DTSTART:20260515T211500Z
DTEND:20260515T221500Z
END:VEVENT
END:VCALENDAR
