BEGIN:VCALENDAR
VERSION:2.0
PRODID:SchoolNow
CALSCALE:GREGORIAN
BEGIN:VEVENT
UID:3434fc8a-3bf1-11f0-870f-02166bab2149
DTSTAMP:20251216T154517Z
SUMMARY:Cross Country Meet
LOCATION:TBD
URL;VALUE=URI:https://www.dg58.org/on/calendar/8215870/cross-country-meet
DTSTART;VALUE=DATE:20251011
DTEND;VALUE=DATE:20251012
END:VEVENT
END:VCALENDAR
