BEGIN:VCALENDAR
VERSION:2.0
PRODID:SchoolNow
CALSCALE:GREGORIAN
BEGIN:VEVENT
UID:33ee3e12-3bf1-11f0-bb1d-02166bab2149
DTSTAMP:20251216T154517Z
SUMMARY:Cross Country Meet
LOCATION:Cass
URL;VALUE=URI:https://www.dg58.org/on/calendar/8215869/cross-country-meet
DTSTART:20250915T211500Z
DTEND:20250915T231500Z
END:VEVENT
END:VCALENDAR
