BEGIN:VCALENDAR
VERSION:2.0
PRODID:SchoolNow
CALSCALE:GREGORIAN
BEGIN:VEVENT
UID:33ee3b4c-3bf1-11f0-a52c-02166bab2149
DTSTAMP:20251216T154517Z
SUMMARY:Girls Basketball Game
LOCATION:TBD
URL;VALUE=URI:https://www.dg58.org/on/calendar/8215866/girls-basketball-gam
 e
DTSTART:20251118T221500Z
DTEND:20251118T231500Z
END:VEVENT
END:VCALENDAR
