BEGIN:VCALENDAR
VERSION:2.0
PRODID:SchoolNow
CALSCALE:GREGORIAN
BEGIN:VEVENT
UID:33ee3976-3bf1-11f0-9913-02166bab2149
DTSTAMP:20251216T154517Z
SUMMARY:Track Meet
LOCATION:Lisle
URL;VALUE=URI:https://www.dg58.org/on/calendar/8215864/track-meet
DTSTART:20260505T204500Z
DTEND:20260506T000000Z
END:VEVENT
END:VCALENDAR
