BEGIN:VCALENDAR
VERSION:2.0
PRODID:SchoolNow
CALSCALE:GREGORIAN
BEGIN:VEVENT
UID:33ee389a-3bf1-11f0-b4fc-02166bab2149
DTSTAMP:20251216T154517Z
SUMMARY:Boys Basketball Game
LOCATION:O'Neill
URL;VALUE=URI:https://www.dg58.org/on/calendar/8215863/boys-basketball-game
DTSTART:20260115T221500Z
DTEND:20260116T001500Z
END:VEVENT
END:VCALENDAR
