BEGIN:VCALENDAR
VERSION:2.0
PRODID:SchoolNow
CALSCALE:GREGORIAN
BEGIN:VEVENT
UID:33ee36d8-3bf1-11f0-a7cb-02166bab2149
DTSTAMP:20251216T154517Z
SUMMARY:Chess Match
LOCATION:Old Quarry
URL;VALUE=URI:https://www.dg58.org/on/calendar/8215861/chess-match
DTSTART:20260127T221500Z
DTEND:20260128T001500Z
END:VEVENT
END:VCALENDAR
