BEGIN:VCALENDAR
VERSION:2.0
PRODID:SchoolNow
CALSCALE:GREGORIAN
BEGIN:VEVENT
UID:33ee3426-3bf1-11f0-abba-02166bab2149
DTSTAMP:20251216T154517Z
SUMMARY:Girls Basketball Game
LOCATION:O'Neill
URL;VALUE=URI:https://www.dg58.org/on/calendar/8215858/girls-basketball-gam
 e
DTSTART:20251022T211500Z
DTEND:20251022T231500Z
END:VEVENT
END:VCALENDAR
