BEGIN:VCALENDAR
VERSION:2.0
PRODID:SchoolNow
CALSCALE:GREGORIAN
BEGIN:VEVENT
UID:33ee3048-3bf1-11f0-b423-02166bab2149
DTSTAMP:20251216T154517Z
SUMMARY:Soccer Game
LOCATION:TBD
URL;VALUE=URI:https://www.dg58.org/on/calendar/8215854/soccer-game
DTSTART:20260511T211500Z
DTEND:20260511T231500Z
END:VEVENT
END:VCALENDAR
