BEGIN:VCALENDAR
VERSION:2.0
PRODID:SchoolNow
CALSCALE:GREGORIAN
BEGIN:VEVENT
UID:33ee2d8c-3bf1-11f0-b1b8-02166bab2149
DTSTAMP:20251216T154517Z
SUMMARY:Wrestling Meet
LOCATION:Old Quarry
URL;VALUE=URI:https://www.dg58.org/on/calendar/8215852/wrestling-meet
DTSTART:20260127T221500Z
DTEND:20260128T001500Z
END:VEVENT
END:VCALENDAR
