BEGIN:VCALENDAR
VERSION:2.0
PRODID:SchoolNow
CALSCALE:GREGORIAN
BEGIN:VEVENT
UID:33ee2954-3bf1-11f0-8d46-02166bab2149
DTSTAMP:20251216T154517Z
SUMMARY:Boys Basketball Game
LOCATION:TBD
URL;VALUE=URI:https://www.dg58.org/on/calendar/8215847/boys-basketball-game
DTSTART;VALUE=DATE:20260212
DTEND;VALUE=DATE:20260213
END:VEVENT
END:VCALENDAR
