BEGIN:VCALENDAR
VERSION:2.0
PRODID:SchoolNow
CALSCALE:GREGORIAN
BEGIN:VEVENT
UID:33ee2878-3bf1-11f0-b116-02166bab2149
DTSTAMP:20251216T154517Z
SUMMARY:Boys Basketball Game
LOCATION:TBD
URL;VALUE=URI:https://www.dg58.org/on/calendar/8215846/boys-basketball-game
DTSTART:20260116T221500Z
DTEND:20260116T231500Z
END:VEVENT
END:VCALENDAR
