BEGIN:VCALENDAR
VERSION:2.0
PRODID:SchoolNow
CALSCALE:GREGORIAN
BEGIN:VEVENT
UID:33ee279c-3bf1-11f0-aaf0-02166bab2149
DTSTAMP:20251216T154517Z
SUMMARY:Soccer Game
LOCATION:O'Neill
URL;VALUE=URI:https://www.dg58.org/on/calendar/8215845/soccer-game
DTSTART:20260423T211500Z
DTEND:20260423T231500Z
END:VEVENT
END:VCALENDAR
