BEGIN:VCALENDAR
VERSION:2.0
PRODID:SchoolNow
CALSCALE:GREGORIAN
BEGIN:VEVENT
UID:33ee26c0-3bf1-11f0-84ea-02166bab2149
DTSTAMP:20251216T154517Z
SUMMARY:Soccer Game
LOCATION:Old Quarry
URL;VALUE=URI:https://www.dg58.org/on/calendar/8215844/soccer-game
DTSTART:20260504T211500Z
DTEND:20260504T231500Z
END:VEVENT
END:VCALENDAR
