BEGIN:VCALENDAR
VERSION:2.0
PRODID:SchoolNow
CALSCALE:GREGORIAN
BEGIN:VEVENT
UID:33ee2436-3bf1-11f0-b7ff-02166bab2149
DTSTAMP:20251216T154517Z
SUMMARY:Soccer Game
LOCATION:TBD
URL;VALUE=URI:https://www.dg58.org/on/calendar/8215841/soccer-game
DTSTART:20260513T211500Z
DTEND:20260513T231500Z
END:VEVENT
END:VCALENDAR
