BEGIN:VCALENDAR
VERSION:2.0
PRODID:SchoolNow
CALSCALE:GREGORIAN
BEGIN:VEVENT
UID:33ee235a-3bf1-11f0-a030-02166bab2149
DTSTAMP:20251216T154517Z
SUMMARY:Boys Basketball Game
LOCATION:Lisle
URL;VALUE=URI:https://www.dg58.org/on/calendar/8215840/boys-basketball-game
DTSTART:20260114T221500Z
DTEND:20260115T001500Z
END:VEVENT
END:VCALENDAR
