BEGIN:VCALENDAR
VERSION:2.0
PRODID:SchoolNow
CALSCALE:GREGORIAN
BEGIN:VEVENT
UID:33ee227e-3bf1-11f0-8524-02166bab2149
DTSTAMP:20251216T154517Z
SUMMARY:Chess Match
LOCATION:O'Neill
URL;VALUE=URI:https://www.dg58.org/on/calendar/8215839/chess-match
DTSTART:20260217T221500Z
DTEND:20260218T001500Z
END:VEVENT
END:VCALENDAR
