BEGIN:VCALENDAR
VERSION:2.0
PRODID:SchoolNow
CALSCALE:GREGORIAN
BEGIN:VEVENT
UID:33ee1c70-3bf1-11f0-827d-02166bab2149
DTSTAMP:20251216T154517Z
SUMMARY:Soccer Game
LOCATION:TBD
URL;VALUE=URI:https://www.dg58.org/on/calendar/8215832/soccer-game
DTSTART:20260512T211500Z
DTEND:20260512T231500Z
END:VEVENT
END:VCALENDAR
