BEGIN:VCALENDAR
VERSION:2.0
PRODID:SchoolNow
CALSCALE:GREGORIAN
BEGIN:VEVENT
UID:33ee1aae-3bf1-11f0-b910-02166bab2149
DTSTAMP:20251216T154517Z
SUMMARY:Boys Volleyball Game
LOCATION:Westview Hills
URL;VALUE=URI:https://www.dg58.org/on/calendar/8215830/boys-volleyball-game
DTSTART:20260427T211500Z
DTEND:20260427T221500Z
END:VEVENT
END:VCALENDAR
