BEGIN:VCALENDAR
VERSION:2.0
PRODID:SchoolNow
CALSCALE:GREGORIAN
BEGIN:VEVENT
UID:33ee19c8-3bf1-11f0-a8df-02166bab2149
DTSTAMP:20251216T154517Z
SUMMARY:Girls Basketball Game
LOCATION:O'Neill
URL;VALUE=URI:https://www.dg58.org/on/calendar/8215829/girls-basketball-gam
 e
DTSTART:20251113T221500Z
DTEND:20251114T001500Z
END:VEVENT
END:VCALENDAR
