BEGIN:VCALENDAR
VERSION:2.0
PRODID:SchoolNow
CALSCALE:GREGORIAN
BEGIN:VEVENT
UID:33ee1810-3bf1-11f0-b9bc-02166bab2149
DTSTAMP:20251216T154517Z
SUMMARY:Boys Basketball Game
LOCATION:TBD
URL;VALUE=URI:https://www.dg58.org/on/calendar/8215827/boys-basketball-game
DTSTART;VALUE=DATE:20260122
DTEND;VALUE=DATE:20260123
END:VEVENT
END:VCALENDAR
