BEGIN:VCALENDAR
VERSION:2.0
PRODID:SchoolNow
CALSCALE:GREGORIAN
BEGIN:VEVENT
UID:33ee157c-3bf1-11f0-a8d6-02166bab2149
DTSTAMP:20251216T154517Z
SUMMARY:Soccer Game
LOCATION:Lakeview
URL;VALUE=URI:https://www.dg58.org/on/calendar/8215824/soccer-game
DTSTART:20260427T211500Z
DTEND:20260427T231500Z
END:VEVENT
END:VCALENDAR
