BEGIN:VCALENDAR
VERSION:2.0
PRODID:SchoolNow
CALSCALE:GREGORIAN
BEGIN:VEVENT
UID:33ee13ba-3bf1-11f0-8296-02166bab2149
DTSTAMP:20251216T154517Z
SUMMARY:Wrestling Meet
LOCATION:O'Neill
URL;VALUE=URI:https://www.dg58.org/on/calendar/8215822/wrestling-meet
DTSTART:20260112T221500Z
DTEND:20260113T001500Z
END:VEVENT
END:VCALENDAR
