BEGIN:VCALENDAR
VERSION:2.0
PRODID:SchoolNow
CALSCALE:GREGORIAN
BEGIN:VEVENT
UID:33ee11f8-3bf1-11f0-88c0-02166bab2149
DTSTAMP:20251216T154517Z
SUMMARY:Wrestling Meet
LOCATION:Jefferson
URL;VALUE=URI:https://www.dg58.org/on/calendar/8215820/wrestling-meet
DTSTART:20260210T221500Z
DTEND:20260211T001500Z
END:VEVENT
END:VCALENDAR
