BEGIN:VCALENDAR
VERSION:2.0
PRODID:SchoolNow
CALSCALE:GREGORIAN
BEGIN:VEVENT
UID:33ee0f5a-3bf1-11f0-aea7-02166bab2149
DTSTAMP:20251216T154517Z
SUMMARY:Chess Match
LOCATION:O'Neill
URL;VALUE=URI:https://www.dg58.org/on/calendar/8215817/chess-match
DTSTART:20260120T221500Z
DTEND:20260121T001500Z
END:VEVENT
END:VCALENDAR
