BEGIN:VCALENDAR
VERSION:2.0
PRODID:SchoolNow
CALSCALE:GREGORIAN
BEGIN:VEVENT
UID:33ee0e7e-3bf1-11f0-9880-02166bab2149
DTSTAMP:20251216T154517Z
SUMMARY:Girls Basketball Game
LOCATION:TBD
URL;VALUE=URI:https://www.dg58.org/on/calendar/8215816/girls-basketball-gam
 e
DTSTART:20251119T221500Z
DTEND:20251119T231500Z
END:VEVENT
END:VCALENDAR
