BEGIN:VCALENDAR
VERSION:2.0
PRODID:SchoolNow
CALSCALE:GREGORIAN
BEGIN:VEVENT
UID:33ee0dac-3bf1-11f0-a33d-02166bab2149
DTSTAMP:20251216T154517Z
SUMMARY:Soccer Game
LOCATION:TBD
URL;VALUE=URI:https://www.dg58.org/on/calendar/8215815/soccer-game
DTSTART:20260514T211500Z
DTEND:20260514T231500Z
END:VEVENT
END:VCALENDAR
