BEGIN:VCALENDAR
VERSION:2.0
PRODID:SchoolNow
CALSCALE:GREGORIAN
BEGIN:VEVENT
UID:33ee0bea-3bf1-11f0-a601-02166bab2149
DTSTAMP:20251216T154517Z
SUMMARY:Boys Volleyball Game
LOCATION:TBD
URL;VALUE=URI:https://www.dg58.org/on/calendar/8215813/boys-volleyball-game
DTSTART:20260514T211500Z
DTEND:20260514T221500Z
END:VEVENT
END:VCALENDAR
