BEGIN:VCALENDAR
VERSION:2.0
PRODID:SchoolNow
CALSCALE:GREGORIAN
BEGIN:VEVENT
UID:33ee0af0-3bf1-11f0-a156-02166bab2149
DTSTAMP:20251216T154517Z
SUMMARY:Boys Basketball Game
LOCATION:TBD
URL;VALUE=URI:https://www.dg58.org/on/calendar/8215812/boys-basketball-game
DTSTART:20260123T221500Z
DTEND:20260123T231500Z
END:VEVENT
END:VCALENDAR
